BEGIN:VCALENDAR
VERSION:2.0
PRODID:-//Jersey Bites - ECPv6.15.20//NONSGML v1.0//EN
CALSCALE:GREGORIAN
METHOD:PUBLISH
X-ORIGINAL-URL:https://jerseybites.com
X-WR-CALDESC:Events for Jersey Bites
REFRESH-INTERVAL;VALUE=DURATION:PT1H
X-Robots-Tag:noindex
X-PUBLISHED-TTL:PT1H
BEGIN:VTIMEZONE
TZID:America/New_York
BEGIN:DAYLIGHT
TZOFFSETFROM:-0500
TZOFFSETTO:-0400
TZNAME:EDT
DTSTART:20250309T070000
END:DAYLIGHT
BEGIN:STANDARD
TZOFFSETFROM:-0400
TZOFFSETTO:-0500
TZNAME:EST
DTSTART:20251102T060000
END:STANDARD
BEGIN:DAYLIGHT
TZOFFSETFROM:-0500
TZOFFSETTO:-0400
TZNAME:EDT
DTSTART:20260308T070000
END:DAYLIGHT
BEGIN:STANDARD
TZOFFSETFROM:-0400
TZOFFSETTO:-0500
TZNAME:EST
DTSTART:20261101T060000
END:STANDARD
BEGIN:DAYLIGHT
TZOFFSETFROM:-0500
TZOFFSETTO:-0400
TZNAME:EDT
DTSTART:20270314T070000
END:DAYLIGHT
BEGIN:STANDARD
TZOFFSETFROM:-0400
TZOFFSETTO:-0500
TZNAME:EST
DTSTART:20271107T060000
END:STANDARD
END:VTIMEZONE
BEGIN:VEVENT
DTSTART;TZID=America/New_York:20260425T170000
DTEND;TZID=America/New_York:20260425T220000
DTSTAMP:20260423T114820
CREATED:20260422T125523Z
LAST-MODIFIED:20260422T125523Z
UID:10006001-1777136400-1777154400@jerseybites.com
SUMMARY:Who’s Got the Best Bloody Mary?
DESCRIPTION:🍅🔥 WHO HAS THE BEST BLOODY MARY ON THE JERSEY SHORE?! 🔥🍅 \nWe’re about to find out… \nJoin us April 25th at Sunsets Waterfront Bar & Restaurant in Neptune for a night of Bloody Mary tastings\, chef bites\, live music\, and a battle for Bloody Mary bragging rights! 🍹👨‍🍳 \n📍 Sunsets – Neptune\, NJ\n⏰ 5PM–10PM \n🎟 $20 Donation Ticket\nIncludes Chef’s Tastings + Bloody Mary Tastings \n👑 $30 VIP Judge Ticket\nHelp crown the BEST Bloody Mary of the night \n🎶 Live music by Stiletto & The Saxman \n❤️This event is more than just great drinks—it’s about making a real impact. We’re raising funds for the Kotarsky family\, who’ve put everything on hold to care for their newborn and their 2-year-old daughter Adelyn as she bravely battles pediatric cancer. Every ticket helps support their journey and brings Adelyn one step closer to getting home where she belongs. \n🎟 Grab tickets:\ncookinforthecause.org \nCome thirsty… this one’s going to be legendary. 🍹🔥
URL:https://jerseybites.com/event/whos-got-the-best-bloody-mary/
LOCATION:Sunsets Neptune\, 302 S Concourse Neptune City\, NJ 07753 United States\, Neptune City\, 07753\, United States
ATTACH;FMTTYPE=image/jpeg:https://d1eh7m153ng5fa.cloudfront.net/wp-content/uploads/2026/04/IMG_3231.webp
ORGANIZER;CN="Cookin For The Cause":MAILTO:utbello179@gmail.com
END:VEVENT
END:VCALENDAR