BEGIN:VCALENDAR
VERSION:2.0
PRODID:-//Jersey Bites - ECPv6.15.20//NONSGML v1.0//EN
CALSCALE:GREGORIAN
METHOD:PUBLISH
X-ORIGINAL-URL:https://jerseybites.com
X-WR-CALDESC:Events for Jersey Bites
REFRESH-INTERVAL;VALUE=DURATION:PT1H
X-Robots-Tag:noindex
X-PUBLISHED-TTL:PT1H
BEGIN:VTIMEZONE
TZID:America/New_York
BEGIN:DAYLIGHT
TZOFFSETFROM:-0500
TZOFFSETTO:-0400
TZNAME:EDT
DTSTART:20250309T070000
END:DAYLIGHT
BEGIN:STANDARD
TZOFFSETFROM:-0400
TZOFFSETTO:-0500
TZNAME:EST
DTSTART:20251102T060000
END:STANDARD
BEGIN:DAYLIGHT
TZOFFSETFROM:-0500
TZOFFSETTO:-0400
TZNAME:EDT
DTSTART:20260308T070000
END:DAYLIGHT
BEGIN:STANDARD
TZOFFSETFROM:-0400
TZOFFSETTO:-0500
TZNAME:EST
DTSTART:20261101T060000
END:STANDARD
BEGIN:DAYLIGHT
TZOFFSETFROM:-0500
TZOFFSETTO:-0400
TZNAME:EDT
DTSTART:20270314T070000
END:DAYLIGHT
BEGIN:STANDARD
TZOFFSETFROM:-0400
TZOFFSETTO:-0500
TZNAME:EST
DTSTART:20271107T060000
END:STANDARD
END:VTIMEZONE
BEGIN:VEVENT
DTSTART;TZID=America/New_York:20260502T140000
DTEND;TZID=America/New_York:20260502T190000
DTSTAMP:20260421T062422
CREATED:20260327T182826Z
LAST-MODIFIED:20260327T182826Z
UID:10005998-1777730400-1777748400@jerseybites.com
SUMMARY:2026 Down and Derby Wine Festival
DESCRIPTION:2026 Down and Derby Wine Festival\n\n\n\n\n\n\n\n\n\n \n\n\n \n\n\n\n\n\n\n\n\n\n\n\n\n\n\n\n\nSAVE THE DATE!\n2026 Down & Derby Wine Festival\nMay 2\, 2026\nVeterans Island on Cooper River Park\n2 PM – 7 PM\n \n\nSouth Jersey’s Best Wineries  | Live Music and Performers | Food Trucks | Games and Fun#downandderbywinefestival #camdencountynj #visitsouthjersey \n\n\n\n\n\n\n\n\n\n\n\n\n\nGET YOUR TICKETS TODAY!!!\n\n\n\n\n\n\n\n\n\n \n\n\n\n\n\n\n\n\n\n\n\n\n\nWine\, sunshine\, and a little Derby flair…\nThe Down And Derby Wine Festival returns to Veterans Island at Cooper River Park on Saturday\, May 2 for its fifth year of South Jersey wine\, music\, food\, and festive race-day style. \nSpend the afternoon sampling wines from some of the region’s best wineries\, enjoying live entertainment\, and showing off your best Derby hat or bow tie. With games\, great food\, and plenty of surprises\, it’s the perfect way to celebrate spring along the Cooper River!
URL:https://jerseybites.com/event/2026-down-and-derby-wine-festival/
ATTACH;FMTTYPE=image/jpeg:https://d1eh7m153ng5fa.cloudfront.net/wp-content/uploads/2026/03/DDWF2026-1200x1200-1.webp
END:VEVENT
END:VCALENDAR